BEGIN:VCALENDAR
VERSION:2.0
CALSCALE:GREGORIAN
PRODID:adamgibbons/ics
METHOD:PUBLISH
X-PUBLISHED-TTL:PT1H
BEGIN:VEVENT
UID:368@melbournel.askapunk.net
SUMMARY:Scattered Limbs\, Demise\, Nembutolik\, Skurge\, Kniver & Nebulam @
	 Workers Club
DTSTAMP:20260424T111320Z
DTSTART:20260425T083000Z
DTEND:20260426T020000Z
URL:https://melbourne.askapunk.net/event/scattered-limbs-demise-nembutolik-
	skurge-kniver-and-nebulam-workers-club
LOCATION:The Worker's Club - 51 Brunswick Street\, Fitzroy VIC 3065
STATUS:CONFIRMED
CATEGORIES:18+,Demise,Kniver,Nembutolik,Scattered limbs,Skurge,nebulam
END:VEVENT
BEGIN:VEVENT
UID:363@melbournel.askapunk.net
SUMMARY:Where's The Pope (SA)\, Vicious Circle & Krisstol Pistol @ Last Cha
	nce
DTSTAMP:20260424T111320Z
DTSTART:20260425T100000Z
DTEND:20260425T140000Z
URL:https://melbourne.askapunk.net/event/wheres-the-pope-return-to-melbourn
	e
LOCATION:Last Chance - 238 Victoria St\, Melbourne VIC 3000
STATUS:CONFIRMED
CATEGORIES:18+,Hardcore,Hardcore Punk,Interstate band,Krisstol Pistol,Last 
	Chance,Punk,Vicious Circle,Where's the pope
END:VEVENT
BEGIN:VEVENT
UID:370@melbournel.askapunk.net
SUMMARY:Timepeace\, Persecutor\, Slowburn & Lockjaw @ Last Chance
DTSTAMP:20260424T111320Z
DTSTART:20260430T090000Z
DTEND:20260430T130000Z
URL:https://melbourne.askapunk.net/event/timepeace-persecutor-slowburn-and-
	lockjaw-last-chance
LOCATION:Last Chance - 238 Victoria St\, Melbourne VIC 3000
STATUS:CONFIRMED
CATEGORIES:18+,Persecutor,Slowburn,Timepeace,lockjaw
END:VEVENT
BEGIN:VEVENT
UID:367@melbournel.askapunk.net
SUMMARY:Slant (KOREA)\, Hacker\, \, Paroxys\, RAT BAIT & MK Naomi @ The Tot
	e
DTSTAMP:20260424T111320Z
DTSTART:20260501T100000Z
DTEND:20260502T020000Z
URL:https://melbourne.askapunk.net/event/slant-hacker-paroxys-rat-bait-and-
	mk-naomi-the-tote
LOCATION:The Tote - 67-71 Johnston St\, Collingwood VIC 3066
STATUS:CONFIRMED
CATEGORIES:18+,Hacker,International Tour,MK Naomi,Paroxys,Rat Bait,Slant
END:VEVENT
BEGIN:VEVENT
UID:331@melbournel.askapunk.net
SUMMARY:Enzyme // Decade of Manic Crusty Noisecore @ The Tote
DTSTAMP:20260424T111320Z
DTSTART:20260502T083000Z
DTEND:20260502T130000Z
URL:https://melbourne.askapunk.net/event/enzyme-decade-of-manic-crusty-nois
	ecore
LOCATION:The Tote - 67-71 Johnston St\, Collingwood VIC 3066
STATUS:CONFIRMED
CATEGORIES:18+,Cream Soda,Gaoled,International band,Interstate band,Involuc
	ro,Phantasm,Shove,Slant,Sukatani,Vampire,enzyme
END:VEVENT
BEGIN:VEVENT
UID:343@melbournel.askapunk.net
SUMMARY:Desire\, Dizdain\, Chain of Fools & Shellgame @ Last Chance
DTSTAMP:20260424T111320Z
DTSTART:20260508T100000Z
DTEND:20260509T020000Z
URL:https://melbourne.askapunk.net/event/18-hardcore-show-tba-last-chance
LOCATION:Last Chance - 238 Victoria St\, Melbourne VIC 3000
STATUS:CONFIRMED
CATEGORIES:18+,Chain of Fools,Desire,Dizdain,Interstate band,Shellgame
END:VEVENT
BEGIN:VEVENT
UID:345@melbournel.askapunk.net
SUMMARY:Murphy's Law (USA)\, Vicious Circle\, RAT BAIT\, Implode & Combat R
	ock @ The Tote
DTSTAMP:20260424T111320Z
DTSTART:20260515T100000Z
DTEND:20260516T020000Z
URL:https://melbourne.askapunk.net/event/murphys-law-the-tote
LOCATION:The Tote - 67-71 Johnston St\, Collingwood VIC 3066
STATUS:CONFIRMED
CATEGORIES:18+,Combat Rock,Implode,International Tour,Murphy's Law,Rat Bait
	,The Tote,Vicious Circle
END:VEVENT
BEGIN:VEVENT
UID:360@melbournel.askapunk.net
SUMMARY:B.I.G records showcase
DTSTAMP:20260424T111320Z
DTSTART:20260530T060000Z
DTEND:20260530T130000Z
URL:https://melbourne.askapunk.net/event/big-records-show
LOCATION:Laundry Bar - 50 Johnston St\, Fitzroy VIC 3065
STATUS:CONFIRMED
CATEGORIES:18+,Algor Mortis,Blinder,Chrome Cage,Concrete Bomb,Cutthroat,Pea
	ce Ritual,Post Heaven,Resident,Splinter,Tumour,Volatile Ways
END:VEVENT
END:VCALENDAR
