BEGIN:VCALENDAR
VERSION:2.0
CALSCALE:GREGORIAN
PRODID:adamgibbons/ics
METHOD:PUBLISH
X-PUBLISHED-TTL:PT1H
BEGIN:VEVENT
UID:332@melbournel.askapunk.net
SUMMARY:Slant (KOREA)\, Enzyme\, Sukatani\, Drönraid And Laughter @ Footscr
	ay Bowls
DTSTAMP:20260424T175742Z
DTSTART:20260503T040000Z
DTEND:20260503T080000Z
URL:https://melbourne.askapunk.net/event/slant-enzyme-sukatani-dronraid-and
	-laughter-footscray-bowls
LOCATION:Footscray Bowls - 1 Hoadley Ct\, Footscray VIC 3011
STATUS:CONFIRMED
CATEGORIES:
END:VEVENT
END:VCALENDAR
