BEGIN:VCALENDAR
VERSION:2.0
CALSCALE:GREGORIAN
PRODID:adamgibbons/ics
METHOD:PUBLISH
X-PUBLISHED-TTL:PT1H
BEGIN:VEVENT
UID:370@melbournel.askapunk.net
SUMMARY:Timepeace\, Persecutor\, Slowburn & Lockjaw @ Last Chance
DTSTAMP:20260424T124632Z
DTSTART:20260430T090000Z
DTEND:20260430T130000Z
DESCRIPTION:Timepeace continues to push the boundaries of what hardcore is\
	, and challenge\nold ideas of what it should be. Thursday April 30th\, the
	y will be teaming up at\ncurrent punk rock mecca\, The Last Chance\; along
	 with them are Persecutor\,\nSlowburn & Lockjaw. 
URL:https://melbourne.askapunk.net/event/timepeace-persecutor-slowburn-and-
	lockjaw-last-chance
LOCATION:Last Chance - 238 Victoria St\, Melbourne VIC 3000
STATUS:CONFIRMED
CATEGORIES:Persecutor,Timepeace,18+,lockjaw,Slowburn
X-ALT-DESC;FMTTYPE=text/html:<p>Timepeace continues to push the boundaries 
	of what hardcore is, and challenge old ideas of what it should be. Thursda
	y April 30th, they will be teaming up at current punk rock mecca, The Last
	 Chance; along with them are Persecutor, Slowburn &amp; Lockjaw.&nbsp;</p>
BEGIN:VALARM
ACTION:DISPLAY
DESCRIPTION:Timepeace, Persecutor, Slowburn & Lockjaw @ Last Chance
TRIGGER:-PT1H
END:VALARM
END:VEVENT
END:VCALENDAR
