BEGIN:VCALENDAR
VERSION:2.0
CALSCALE:GREGORIAN
PRODID:adamgibbons/ics
METHOD:PUBLISH
X-PUBLISHED-TTL:PT1H
BEGIN:VEVENT
UID:371@melbournel.askapunk.net
SUMMARY:These Words Still Pray records show
DTSTAMP:20260424T155650Z
DTSTART:20260607T030000Z
DTEND:20260607T070000Z
DESCRIPTION:TBA
URL:https://melbourne.askapunk.net/event/these-words-still-pray-records-sho
	w
LOCATION:TBA - Secret Location
STATUS:CONFIRMED
CATEGORIES:
X-ALT-DESC;FMTTYPE=text/html:<p>TBA</p>
BEGIN:VALARM
ACTION:DISPLAY
DESCRIPTION:These Words Still Pray records show
TRIGGER:-PT1H
END:VALARM
END:VEVENT
END:VCALENDAR
